BEGIN:VCALENDAR
VERSION:2.0
PRODID:-//Newkirk Township - ECPv6.15.20//NONSGML v1.0//EN
CALSCALE:GREGORIAN
METHOD:PUBLISH
X-WR-CALNAME:Newkirk Township
X-ORIGINAL-URL:https://newkirktownship.org
X-WR-CALDESC:Events for Newkirk Township
REFRESH-INTERVAL;VALUE=DURATION:PT1H
X-Robots-Tag:noindex
X-PUBLISHED-TTL:PT1H
BEGIN:VTIMEZONE
TZID:UTC
BEGIN:STANDARD
TZOFFSETFROM:+0000
TZOFFSETTO:+0000
TZNAME:UTC
DTSTART:20210101T000000
END:STANDARD
END:VTIMEZONE
BEGIN:VEVENT
DTSTART;TZID=UTC:20230718T190000
DTEND;TZID=UTC:20230718T200000
DTSTAMP:20260420T030229
CREATED:20230707T160442Z
LAST-MODIFIED:20230707T160443Z
UID:2588-1689706800-1689710400@newkirktownship.org
SUMMARY:July 2023 Board of Review
DESCRIPTION:
URL:https://newkirktownship.org/event/july-2023-board-of-review/
LOCATION:Ellsworth Township Hall\, 210 North State Road\, Luther\, MI\, 49656\, United States
END:VEVENT
BEGIN:VEVENT
DTSTART;TZID=UTC:20230328T180000
DTEND;TZID=UTC:20230328T183000
DTSTAMP:20260420T030229
CREATED:20230108T025746Z
LAST-MODIFIED:20230108T044151Z
UID:2502-1680026400-1680028200@newkirktownship.org
SUMMARY:MARCH 2023 BOARD & 2023-2024 BUDGET MEETING
DESCRIPTION:Any cancellations or rescheduling will be posted on our website as soon as the changes are agreed upon by our board members. \nTo view the archive of our previous meeting minutes\, click HERE. \nTo contact our Township Board\, click HERE. \nMEETING ADJOURNMENT TIMES MAY VARY. 
URL:https://newkirktownship.org/event/march-2023-board-meeting/
LOCATION:Newkirk Township Hall\, 301 State Street\, Luther\, 49656
END:VEVENT
BEGIN:VEVENT
DTSTART;TZID=UTC:20230221T180000
DTEND;TZID=UTC:20230221T183000
DTSTAMP:20260420T030229
CREATED:20230108T025632Z
LAST-MODIFIED:20230108T025728Z
UID:2500-1677002400-1677004200@newkirktownship.org
SUMMARY:FEBRUARY 2023 BOARD MEETING
DESCRIPTION:Any cancellations or rescheduling will be posted on our website as soon as the changes are agreed upon by our board members. \nTo view the archive of our previous meeting minutes\, click HERE. \nTo contact our Township Board\, click HERE. \nMEETING ADJOURNMENT TIMES MAY VARY. 
URL:https://newkirktownship.org/event/february-2023-board-meeting/
LOCATION:Newkirk Township Hall\, 301 State Street\, Luther\, 49656
END:VEVENT
BEGIN:VEVENT
DTSTART;TZID=UTC:20230117T180000
DTEND;TZID=UTC:20230117T183000
DTSTAMP:20260420T030229
CREATED:20230108T025516Z
LAST-MODIFIED:20230108T025610Z
UID:2498-1673978400-1673980200@newkirktownship.org
SUMMARY:JANUARY 2023 BOARD MEETING
DESCRIPTION:Any cancellations or rescheduling will be posted on our website as soon as the changes are agreed upon by our board members. \nTo view the archive of our previous meeting minutes\, click HERE. \nTo contact our Township Board\, click HERE. \nMEETING ADJOURNMENT TIMES MAY VARY. 
URL:https://newkirktownship.org/event/january-2023-board-meeting/
LOCATION:Newkirk Township Hall\, 301 State Street\, Luther\, 49656
END:VEVENT
BEGIN:VEVENT
DTSTART;TZID=UTC:20221220T180000
DTEND;TZID=UTC:20221220T183000
DTSTAMP:20260420T030229
CREATED:20221002T210019Z
LAST-MODIFIED:20221002T210122Z
UID:2391-1671559200-1671561000@newkirktownship.org
SUMMARY:DECEMBER 2022 BOARD MEETING
DESCRIPTION:Any cancellations or rescheduling will be posted on our website as soon as the changes are agreed upon by our board members. \nTo view the archive of our previous meeting minutes\, click HERE. \nTo contact our Township Board\, click HERE. \nMEETING ADJOURNMENT TIMES MAY VARY. 
URL:https://newkirktownship.org/event/december-2022-board-meeting/
LOCATION:Newkirk Township Hall\, 301 State Street\, Luther\, 49656
END:VEVENT
BEGIN:VEVENT
DTSTART;TZID=UTC:20221115T180000
DTEND;TZID=UTC:20221115T183000
DTSTAMP:20260420T030229
CREATED:20220223T191839Z
LAST-MODIFIED:20221002T205906Z
UID:887-1668535200-1668537000@newkirktownship.org
SUMMARY:NOVEMBER 2022 BOARD MEETING
DESCRIPTION:Any cancellations or rescheduling will be posted on our website as soon as the changes are agreed upon by our board members. \nTo view the archive of our previous meeting minutes\, click HERE. \nTo contact our Township Board\, click HERE. \nMEETING ADJOURNMENT TIMES MAY VARY. 
URL:https://newkirktownship.org/event/november-2022-board-meeting/
LOCATION:Newkirk Township Hall\, 301 State Street\, Luther\, 49656
END:VEVENT
BEGIN:VEVENT
DTSTART;TZID=UTC:20221018T180000
DTEND;TZID=UTC:20221018T183000
DTSTAMP:20260420T030229
CREATED:20221002T205921Z
LAST-MODIFIED:20221002T210005Z
UID:2389-1666116000-1666117800@newkirktownship.org
SUMMARY:OCTOBER 2022 BOARD MEETING
DESCRIPTION:Any cancellations or rescheduling will be posted on our website as soon as the changes are agreed upon by our board members. \nTo view the archive of our previous meeting minutes\, click HERE. \nTo contact our Township Board\, click HERE. \nMEETING ADJOURNMENT TIMES MAY VARY. 
URL:https://newkirktownship.org/event/october-2022-board-meeting/
LOCATION:Newkirk Township Hall\, 301 State Street\, Luther\, 49656
END:VEVENT
END:VCALENDAR